BEGIN:VCALENDAR
VERSION:2.0
PRODID:-//ChamberMaster//Event Calendar 2.0//EN
METHOD:PUBLISH
X-PUBLISHED-TTL:P3D
REFRESH-INTERVAL:P3D
CALSCALE:GREGORIAN
BEGIN:VEVENT
DTSTART:20260717T223000Z
DTEND:20260717T233000Z
X-MICROSOFT-CDO-ALLDAYEVENT:FALSE
SUMMARY:City of Pompano Beach (Visit Pompano Beach) African Dance Class African Dance Class
DESCRIPTION:Every 3rd Friday!\n\nExperience the joy\, rhythm\, and energy of traditional and contemporary west African dance! This class welcomes participants of all ages and backgrounds?no prior dance experience needed. Through live drumming students will learn movements inspired by West African traditions while exploring the history and meaning behind each dance.
X-ALT-DESC;FMTTYPE=text/html:<div>\n<p>Every 3rd Friday!</p>\n\n<p>Experience the joy\, rhythm\, and energy of traditional and contemporary west African dance! This class welcomes participants of all ages and backgrounds?no prior dance experience needed. Through live drumming students will learn movements inspired by West African traditions while exploring the history and meaning behind each dance.</p>\n\n<div>&nbsp\;</div>\n</div>\n
LOCATION:The HIVE Black Box Theater\, 355 Dr. Martin Luther King\, Jr. Boulevard\, Pompano Beach\, FL 33060
UID:e.2139.41195
SEQUENCE:3
DTSTAMP:20260423T031541Z
URL:https://gfllgbtcoc-eclipse2025-gzcms.preview.gochambermaster.com/events/details/city-of-pompano-beach-visit-pompano-beach-african-dance-class-african-dance-class-07-17-2026-41195
END:VEVENT

END:VCALENDAR
