BEGIN:VCALENDAR
VERSION:2.0
PRODID:-//ChamberMaster//Event Calendar 2.0//EN
METHOD:PUBLISH
X-PUBLISHED-TTL:P3D
REFRESH-INTERVAL:P3D
CALSCALE:GREGORIAN
BEGIN:VEVENT
DTSTART:20251206T150000Z
DTEND:20251206T170000Z
X-MICROSOFT-CDO-ALLDAYEVENT:FALSE
SUMMARY:Miami Art Week VIP Director’s Brunch At NSU Art Museum
DESCRIPTION:Upper-level Members and Miami Art Week Fairs VIP pass holders are invited to the NSU Art Museum Fort Lauderdale annual Director's Brunch. Attendees may view current exhibitions and enjoy refreshments. Dance performance by Damaris Ferrer immediately after. RSVP required.\n\n\n\nFree for Patron-level Museum Members & Above\n\n(Patron\, Benefactor\, Curator Circle & Collector Circle members)\n\n\n\nIf you are a current member and wish to upgrade your membership\, please email moadevelopment@nova.edu
X-ALT-DESC;FMTTYPE=text/html:Upper-level Members and Miami Art Week Fairs VIP pass holders are invited to the NSU Art Museum Fort Lauderdale annual Director&rsquo\;s Brunch. Attendees may view current exhibitions and enjoy refreshments. Dance performance by Damaris Ferrer immediately after. RSVP required.<br />\n<br />\nFree for Patron-level Museum Members &amp\; Above<br />\n(Patron\, Benefactor\, Curator Circle &amp\; Collector Circle members)<br />\n<br />\nIf you are a current member and wish to upgrade your membership\, please email moadevelopment@nova.edu
LOCATION:NSU Art Museum One East Las Olas Boulevard Fort Lauderdale\, FL 33301 United States
UID:e.2139.40978
SEQUENCE:3
DTSTAMP:20260423T214855Z
URL:https://gfllgbtcoc-eclipse2025-gzcms.preview.gochambermaster.com/events/details/miami-art-week-vip-director-s-brunch-at-nsu-art-museum-40978
END:VEVENT

END:VCALENDAR
