BEGIN:VCALENDAR
VERSION:2.0
PRODID:-//ChamberMaster//Event Calendar 2.0//EN
METHOD:PUBLISH
X-PUBLISHED-TTL:P3D
REFRESH-INTERVAL:P3D
CALSCALE:GREGORIAN
BEGIN:VEVENT
DTSTART:20260426T160000Z
DTEND:20260426T210000Z
X-MICROSOFT-CDO-ALLDAYEVENT:FALSE
SUMMARY:NSU Art Museum Rob Pruitt’s Flea Market
DESCRIPTION:NSU Art Museum Fort Lauderdale brings Rob Pruitt's Flea Market back to Fort Lauderdale for its encore on Sunday\, April 26. The internationally renowned contemporary artist has been staging his nomadic flea markets around the world since 1999\, in locations from New York to London's Tate Gallery and at NSU Art Museum in 2021. Pruitt is inviting local artists to sell their art and wares during the one-day happening\, which will be held at NSU Art Museum (One East Las Olas Blvd.\, Fort Lauderdale\, FL).\n\nTaking the form of a traditional open-air bazaar\, Rob Pruitt's Flea Market is an opportunity to meet artists and take home an original artwork in a relaxed atmosphere. By highlighting bartering and haggling as both economic and performative\, and featuring a diverse array of goods from artwork to housewares\, Pruitt's Flea Market blurs the line between art and commerce.
X-ALT-DESC;FMTTYPE=text/html:<p>NSU Art Museum Fort Lauderdale brings Rob Pruitt&rsquo\;s Flea Market back to Fort Lauderdale for its encore on Sunday\, April 26.&nbsp\;The internationally renowned contemporary artist&nbsp\;has been staging his nomadic flea markets around the world since 1999\,&nbsp\;in locations from New York to London&rsquo\;s Tate Gallery and&nbsp\;at NSU Art Museum in 2021. Pruitt&nbsp\;is inviting local artists&nbsp\;to sell their art and wares during the one-day happening\, which will be held at NSU Art Museum (One East Las Olas Blvd.\, Fort Lauderdale\, FL).</p>\n\n<p>Taking the form of a traditional open-air bazaar\, Rob Pruitt&rsquo\;s Flea Market is an opportunity to meet artists and take home an original artwork in a relaxed atmosphere. By highlighting bartering and haggling as both economic and performative\, and featuring a diverse array of goods from artwork to housewares\, Pruitt&rsquo\;s Flea Market blurs the line between art and commerce.</p>\n
LOCATION:One E Las Olas Blvd\, Fort Lauderdale FL 33301
UID:e.2139.43285
SEQUENCE:3
DTSTAMP:20260423T031529Z
URL:https://gfllgbtcoc-eclipse2025-gzcms.preview.gochambermaster.com/events/details/nsu-art-museum-rob-pruitt-s-flea-market-43285
END:VEVENT

END:VCALENDAR
