BEGIN:VCALENDAR
VERSION:2.0
PRODID:-//ChamberMaster//Event Calendar 2.0//EN
METHOD:PUBLISH
X-PUBLISHED-TTL:P3D
REFRESH-INTERVAL:P3D
CALSCALE:GREGORIAN
BEGIN:VEVENT
DTSTART:20251111T230000Z
DTEND:20251112T000000Z
X-MICROSOFT-CDO-ALLDAYEVENT:FALSE
SUMMARY:STONEWALL CONVERSATION WITH SERIES presents Lucas F. W. Wilson author of Shame-Sex Attraction: Survivors' Stories of Conversion Therapy
DESCRIPTION:STONEWALL CONVERSSATION WITH SERIES presents Lucas F. W. Wilson author of Shame-Sex Attraction: Survivors' Stories of Conversion Therapy?\n\n?November 11th at 6:00 pm - Virtual via Zoom\n\nLucas Wilson will be joining us to discuss his powerful book Shame-Sex Attraction\, a deeply moving collection that amplifies the voices of those who've endured and resisted these harmful practices. With the U.S. Supreme Court now taking up cases related to conversion therapy\, this conversation is more urgent than ever. Our community must come together to confront the legacy and ongoing impact of these efforts.
X-ALT-DESC;FMTTYPE=text/html:<p><strong>STONEWALL CONVERSSATION WITH SERIES presents Lucas F. W. Wilson author of&nbsp\;</strong><em>Shame-Sex Attraction: Survivors&#39\; Stories of Conversion Therapy</em><span style="font-family:open sans\,sans-serif\; font-size:15px">?<br />\n?November 11th at 6:00 pm - Virtual via Zoom</span></p>\n\n<p><span style="color:rgb(77\, 77\, 77)\; font-family:open sans\,sans-serif\; font-size:15px">Lucas Wilson will be joining us to discuss his powerful book&nbsp\;</span><em>Shame-Sex Attraction</em><span style="color:rgb(77\, 77\, 77)\; font-family:open sans\,sans-serif\; font-size:15px">\, a deeply moving collection that amplifies the voices of those who&rsquo\;ve endured and resisted these harmful practices. With the U.S. Supreme Court now taking up cases related to conversion therapy\, this conversation is more urgent than ever. Our community must come together to confront the legacy and ongoing impact of these efforts.</span></p>\n
LOCATION:Virtual with Zoom Note: You must click on the link to register to attend. You will then be sent a link to Zoom to view.
UID:e.2139.40834
SEQUENCE:3
DTSTAMP:20260423T202148Z
URL:https://gfllgbtcoc-eclipse2025-gzcms.preview.gochambermaster.com/events/details/stonewall-conversation-with-series-presents-lucas-f-w-wilson-author-of-shame-sex-attraction-survivors-stories-of-conversion-therapy-40834
END:VEVENT

END:VCALENDAR
